Package: CRISPRball Version: 1.3.2 Command: /Library/Frameworks/R.framework/Resources/bin/R CMD check --install=check:CRISPRball.install-out.txt --library=/Library/Frameworks/R.framework/Resources/library --no-vignettes --timings CRISPRball_1.3.2.tar.gz StartedAt: 2025-02-20 19:43:18 -0500 (Thu, 20 Feb 2025) EndedAt: 2025-02-20 19:48:19 -0500 (Thu, 20 Feb 2025) EllapsedTime: 300.5 seconds RetCode: 0 Status: OK CheckDir: CRISPRball.Rcheck Warnings: 0