Package: CRISPRball Version: 1.3.2 Command: /Library/Frameworks/R.framework/Resources/bin/R CMD build --keep-empty-dirs --no-resave-data CRISPRball StartedAt: 2025-02-20 16:20:58 -0500 (Thu, 20 Feb 2025) EndedAt: 2025-02-20 16:21:37 -0500 (Thu, 20 Feb 2025) EllapsedTime: 38.8 seconds RetCode: 0 Status: OK PackageFile: CRISPRball_1.3.2.tar.gz PackageFileSize: 2.614 MiB