Package: CRISPRball Version: 1.3.2 Command: /Library/Frameworks/R.framework/Resources/bin/R CMD check --install=check:CRISPRball.install-out.txt --library=/Library/Frameworks/R.framework/Resources/library --no-vignettes --timings CRISPRball_1.3.2.tar.gz StartedAt: 2025-02-21 19:19:07 -0500 (Fri, 21 Feb 2025) EndedAt: 2025-02-21 19:20:58 -0500 (Fri, 21 Feb 2025) EllapsedTime: 111.3 seconds RetCode: 0 Status: OK CheckDir: CRISPRball.Rcheck Warnings: 0