Package: COTAN Version: 2.7.3 Command: /home/biocbuild/bbs-3.21-bioc/R/bin/R CMD check --install=check:COTAN.install-out.txt --library=/home/biocbuild/bbs-3.21-bioc/R/site-library --timings COTAN_2.7.3.tar.gz StartedAt: 2025-02-20 21:03:41 -0500 (Thu, 20 Feb 2025) EndedAt: 2025-02-20 21:34:22 -0500 (Thu, 20 Feb 2025) EllapsedTime: 1841.5 seconds RetCode: 0 Status: OK CheckDir: COTAN.Rcheck Warnings: 0