Package: COTAN Version: 2.7.3 Command: /Library/Frameworks/R.framework/Resources/bin/R CMD check --install=check:COTAN.install-out.txt --library=/Library/Frameworks/R.framework/Resources/library --no-vignettes --timings COTAN_2.7.3.tar.gz StartedAt: 2025-02-19 18:43:14 -0500 (Wed, 19 Feb 2025) EndedAt: 2025-02-19 18:55:23 -0500 (Wed, 19 Feb 2025) EllapsedTime: 728.5 seconds RetCode: 0 Status: OK CheckDir: COTAN.Rcheck Warnings: 0