Package: COSNet Version: 1.41.0 Command: /Library/Frameworks/R.framework/Resources/bin/R CMD INSTALL COSNet StartedAt: 2025-02-19 15:04:58 -0500 (Wed, 19 Feb 2025) EndedAt: 2025-02-19 15:05:28 -0500 (Wed, 19 Feb 2025) EllapsedTime: 29.5 seconds RetCode: 0 Status: OK