Package: CONSTANd Version: 1.15.0 Command: E:\biocbuild\bbs-3.21-bioc\R\bin\R.exe CMD INSTALL CONSTANd StartedAt: 2025-02-20 15:17:39 -0500 (Thu, 20 Feb 2025) EndedAt: 2025-02-20 15:17:43 -0500 (Thu, 20 Feb 2025) EllapsedTime: 3.9 seconds RetCode: 0 Status: OK