Package: CONSTANd Version: 1.15.0 Command: chmod a+r CONSTANd -R && E:\biocbuild\bbs-3.21-bioc\R\bin\R.exe CMD build --keep-empty-dirs --no-resave-data CONSTANd StartedAt: 2025-02-20 18:05:40 -0500 (Thu, 20 Feb 2025) EndedAt: 2025-02-20 18:05:59 -0500 (Thu, 20 Feb 2025) EllapsedTime: 20.0 seconds RetCode: 0 Status: OK PackageFile: CONSTANd_1.15.0.tar.gz PackageFileSize: 1.669 MiB