Package: CONSTANd Version: 1.15.0 Command: /home/biocbuild/bbs-3.21-bioc/R/bin/R CMD INSTALL CONSTANd StartedAt: 2025-02-20 15:00:43 -0500 (Thu, 20 Feb 2025) EndedAt: 2025-02-20 15:00:45 -0500 (Thu, 20 Feb 2025) EllapsedTime: 2.0 seconds RetCode: 0 Status: OK