Package: CONSTANd Version: 1.15.0 Command: /Library/Frameworks/R.framework/Resources/bin/R CMD check --install=check:CONSTANd.install-out.txt --library=/Library/Frameworks/R.framework/Resources/library --no-vignettes --timings CONSTANd_1.15.0.tar.gz StartedAt: 2025-02-21 19:40:43 -0500 (Fri, 21 Feb 2025) EndedAt: 2025-02-21 19:41:06 -0500 (Fri, 21 Feb 2025) EllapsedTime: 23.1 seconds RetCode: 0 Status: OK CheckDir: CONSTANd.Rcheck Warnings: 0