Package: CONSTANd Version: 1.15.0 Command: /Library/Frameworks/R.framework/Resources/bin/R CMD build --keep-empty-dirs --no-resave-data CONSTANd StartedAt: 2025-02-20 16:19:09 -0500 (Thu, 20 Feb 2025) EndedAt: 2025-02-20 16:19:22 -0500 (Thu, 20 Feb 2025) EllapsedTime: 12.5 seconds RetCode: 0 Status: OK PackageFile: CONSTANd_1.15.0.tar.gz PackageFileSize: 1.696 MiB