Package: CONSTANd Version: 1.15.0 Command: rm -rf CONSTANd.buildbin-libdir && mkdir CONSTANd.buildbin-libdir && /Users/biocbuild/BBS/utils/build-universal.sh CONSTANd_1.15.0.tar.gz /Library/Frameworks/R.framework/Resources/bin/R CONSTANd.buildbin-libdir StartedAt: 2025-02-20 22:14:52 -0500 (Thu, 20 Feb 2025) EndedAt: 2025-02-20 22:14:54 -0500 (Thu, 20 Feb 2025) EllapsedTime: 2.0 seconds RetCode: 0 Status: OK PackageFile: CONSTANd_1.15.0.tgz PackageFileSize: 1.553 MiB