Package: CONFESS Version: 1.35.0 Command: E:\biocbuild\bbs-3.21-bioc\R\bin\R.exe CMD INSTALL CONFESS StartedAt: 2025-02-20 15:56:17 -0500 (Thu, 20 Feb 2025) EndedAt: 2025-02-20 15:57:55 -0500 (Thu, 20 Feb 2025) EllapsedTime: 98.7 seconds RetCode: 0 Status: OK