Package: CONFESS Version: 1.35.0 Command: /home/biocbuild/bbs-3.21-bioc/R/bin/R CMD check --install=check:CONFESS.install-out.txt --library=/home/biocbuild/bbs-3.21-bioc/R/site-library --timings CONFESS_1.35.0.tar.gz StartedAt: 2025-02-19 21:05:59 -0500 (Wed, 19 Feb 2025) EndedAt: 2025-02-19 21:14:49 -0500 (Wed, 19 Feb 2025) EllapsedTime: 530.7 seconds RetCode: 0 Status: WARNINGS CheckDir: CONFESS.Rcheck Warnings: 1