############################################################################## ############################################################################## ### ### Running command: ### ### /home/biocbuild/bbs-3.21-bioc/R/bin/R CMD build --keep-empty-dirs --no-resave-data CONFESS ### ############################################################################## ############################################################################## * checking for file ‘CONFESS/DESCRIPTION’ ... OK * preparing ‘CONFESS’: * checking DESCRIPTION meta-information ... OK * installing the package to build vignettes ----------------------------------- ERROR: dependency ‘flowMerge’ is not available for package ‘CONFESS’ Perhaps try a variation of: install.packages('flowMerge') * removing ‘/tmp/RtmprCHu5G/Rinst135aa172582431/CONFESS’ ----------------------------------- ERROR: package installation failed