Package: CONFESS Version: 1.35.0 Command: /home/biocbuild/R/R/bin/R CMD build --keep-empty-dirs --no-resave-data CONFESS StartedAt: 2025-01-28 22:05:17 -0000 (Tue, 28 Jan 2025) EndedAt: 2025-01-28 22:05:18 -0000 (Tue, 28 Jan 2025) EllapsedTime: 1.0 seconds RetCode: 1 Status: ERROR PackageFile: None PackageFileSize: NA