Package: COMPASS Version: 1.45.0 Command: E:\biocbuild\bbs-3.21-bioc\R\bin\R.exe CMD check --no-multiarch --install=check:COMPASS.install-out.txt --library=E:\biocbuild\bbs-3.21-bioc\R\library --no-vignettes --timings COMPASS_1.45.0.tar.gz StartedAt: 2025-02-19 23:52:21 -0500 (Wed, 19 Feb 2025) EndedAt: 2025-02-19 23:56:10 -0500 (Wed, 19 Feb 2025) EllapsedTime: 228.7 seconds RetCode: 0 Status: OK CheckDir: COMPASS.Rcheck Warnings: 0