Package: COMPASS Version: 1.45.0 Command: rm -rf COMPASS.buildbin-libdir && mkdir COMPASS.buildbin-libdir && E:\biocbuild\bbs-3.21-bioc\R\bin\R.exe CMD INSTALL --build --library=COMPASS.buildbin-libdir COMPASS_1.45.0.tar.gz StartedAt: 2025-02-20 07:32:24 -0500 (Thu, 20 Feb 2025) EndedAt: 2025-02-20 07:33:41 -0500 (Thu, 20 Feb 2025) EllapsedTime: 76.6 seconds RetCode: 0 Status: OK PackageFile: COMPASS_1.45.0.zip PackageFileSize: 1.658 MiB