Package: COMPASS Version: 1.45.0 Command: /Library/Frameworks/R.framework/Resources/bin/R CMD check --install=check:COMPASS.install-out.txt --library=/Library/Frameworks/R.framework/Resources/library --no-vignettes --timings COMPASS_1.45.0.tar.gz StartedAt: 2025-02-19 19:37:58 -0500 (Wed, 19 Feb 2025) EndedAt: 2025-02-19 19:40:14 -0500 (Wed, 19 Feb 2025) EllapsedTime: 135.3 seconds RetCode: 0 Status: OK CheckDir: COMPASS.Rcheck Warnings: 0