Package: COMPASS Version: 1.45.0 Command: /Library/Frameworks/R.framework/Resources/bin/R CMD INSTALL COMPASS StartedAt: 2025-02-19 15:16:08 -0500 (Wed, 19 Feb 2025) EndedAt: 2025-02-19 15:16:21 -0500 (Wed, 19 Feb 2025) EllapsedTime: 13.4 seconds RetCode: 0 Status: OK