Package: COMPASS Version: 1.45.0 Command: /Library/Frameworks/R.framework/Resources/bin/R CMD build --keep-empty-dirs --no-resave-data COMPASS StartedAt: 2025-02-19 15:58:28 -0500 (Wed, 19 Feb 2025) EndedAt: 2025-02-19 16:00:19 -0500 (Wed, 19 Feb 2025) EllapsedTime: 111.2 seconds RetCode: 0 Status: OK PackageFile: COMPASS_1.45.0.tar.gz PackageFileSize: 1.305 MiB