Package: CODEX Version: 1.39.0 Command: rm -rf CODEX.buildbin-libdir && mkdir CODEX.buildbin-libdir && E:\biocbuild\bbs-3.21-bioc\R\bin\R.exe CMD INSTALL --build --library=CODEX.buildbin-libdir CODEX_1.39.0.tar.gz StartedAt: 2025-02-20 07:32:03 -0500 (Thu, 20 Feb 2025) EndedAt: 2025-02-20 07:32:40 -0500 (Thu, 20 Feb 2025) EllapsedTime: 36.8 seconds RetCode: 0 Status: OK PackageFile: CODEX_1.39.0.zip PackageFileSize: 1.239 MiB