Package: CODEX Version: 1.39.0 Command: /Library/Frameworks/R.framework/Resources/bin/R CMD check --install=check:CODEX.install-out.txt --library=/Library/Frameworks/R.framework/Resources/library --no-vignettes --timings CODEX_1.39.0.tar.gz StartedAt: 2025-02-19 19:36:53 -0500 (Wed, 19 Feb 2025) EndedAt: 2025-02-19 19:41:35 -0500 (Wed, 19 Feb 2025) EllapsedTime: 282.9 seconds RetCode: 0 Status: OK CheckDir: CODEX.Rcheck Warnings: 0