Package: CODEX Version: 1.39.0 Command: /Library/Frameworks/R.framework/Resources/bin/R CMD build --keep-empty-dirs --no-resave-data CODEX StartedAt: 2025-02-19 16:17:32 -0500 (Wed, 19 Feb 2025) EndedAt: 2025-02-19 16:19:25 -0500 (Wed, 19 Feb 2025) EllapsedTime: 113.1 seconds RetCode: 0 Status: OK PackageFile: CODEX_1.39.0.tar.gz PackageFileSize: 914.1 KiB