Package: CNVrd2 Version: 1.45.0 Command: E:\biocbuild\bbs-3.21-bioc\R\bin\R.exe CMD INSTALL CNVrd2 StartedAt: 2025-02-21 17:16:15 -0500 (Fri, 21 Feb 2025) EndedAt: 2025-02-21 17:17:07 -0500 (Fri, 21 Feb 2025) EllapsedTime: 52.0 seconds RetCode: 0 Status: OK