Package: CNVrd2 Version: 1.45.0 Command: E:\biocbuild\bbs-3.21-bioc\R\bin\R.exe CMD check --no-multiarch --install=check:CNVrd2.install-out.txt --library=E:\biocbuild\bbs-3.21-bioc\R\library --no-vignettes --timings CNVrd2_1.45.0.tar.gz StartedAt: 2025-02-21 00:00:28 -0500 (Fri, 21 Feb 2025) EndedAt: 2025-02-21 00:03:41 -0500 (Fri, 21 Feb 2025) EllapsedTime: 192.5 seconds RetCode: 0 Status: OK CheckDir: CNVrd2.Rcheck Warnings: 0