Package: CNVrd2 Version: 1.45.0 Command: chmod a+r CNVrd2 -R && E:\biocbuild\bbs-3.21-bioc\R\bin\R.exe CMD build --keep-empty-dirs --no-resave-data CNVrd2 StartedAt: 2025-02-21 18:38:51 -0500 (Fri, 21 Feb 2025) EndedAt: 2025-02-21 18:40:48 -0500 (Fri, 21 Feb 2025) EllapsedTime: 117.0 seconds RetCode: 0 Status: OK PackageFile: CNVrd2_1.45.0.tar.gz PackageFileSize: 2.539 MiB