Package: CNVrd2 Version: 1.45.0 Command: /Library/Frameworks/R.framework/Resources/bin/R CMD INSTALL CNVrd2 StartedAt: 2025-02-20 15:20:55 -0500 (Thu, 20 Feb 2025) EndedAt: 2025-02-20 15:21:49 -0500 (Thu, 20 Feb 2025) EllapsedTime: 53.0 seconds RetCode: 0 Status: OK