Package: CNVrd2 Version: 1.45.0 Command: /Library/Frameworks/R.framework/Resources/bin/R CMD check --install=check:CNVrd2.install-out.txt --library=/Library/Frameworks/R.framework/Resources/library --no-vignettes --timings CNVrd2_1.45.0.tar.gz StartedAt: 2025-02-20 19:36:27 -0500 (Thu, 20 Feb 2025) EndedAt: 2025-02-20 19:39:22 -0500 (Thu, 20 Feb 2025) EllapsedTime: 174.7 seconds RetCode: 0 Status: OK CheckDir: CNVrd2.Rcheck Warnings: 0