Package: CNVrd2 Version: 1.45.0 Command: /Library/Frameworks/R.framework/Resources/bin/R CMD build --keep-empty-dirs --no-resave-data CNVrd2 StartedAt: 2025-02-20 16:17:02 -0500 (Thu, 20 Feb 2025) EndedAt: 2025-02-20 16:18:29 -0500 (Thu, 20 Feb 2025) EllapsedTime: 86.9 seconds RetCode: 0 Status: OK PackageFile: CNVrd2_1.45.0.tar.gz PackageFileSize: 2.824 MiB