Package: CNViz Version: 1.15.0 Command: /Library/Frameworks/R.framework/Resources/bin/R CMD build --keep-empty-dirs --no-resave-data CNViz StartedAt: 2025-02-19 16:17:12 -0500 (Wed, 19 Feb 2025) EndedAt: 2025-02-19 16:18:20 -0500 (Wed, 19 Feb 2025) EllapsedTime: 67.4 seconds RetCode: 0 Status: OK PackageFile: CNViz_1.15.0.tar.gz PackageFileSize: 115.6 KiB