Package: CNVRanger Version: 1.23.0 Command: /home/biocbuild/bbs-3.21-bioc/R/bin/R CMD check --install=check:CNVRanger.install-out.txt --library=/home/biocbuild/bbs-3.21-bioc/R/site-library --timings CNVRanger_1.23.0.tar.gz StartedAt: 2025-02-20 20:55:05 -0500 (Thu, 20 Feb 2025) EndedAt: 2025-02-20 21:02:07 -0500 (Thu, 20 Feb 2025) EllapsedTime: 421.6 seconds RetCode: 0 Status: OK CheckDir: CNVRanger.Rcheck Warnings: 0