Package: CNVRanger Version: 1.23.0 Command: /Library/Frameworks/R.framework/Resources/bin/R CMD build --keep-empty-dirs --no-resave-data CNVRanger StartedAt: 2025-02-19 15:57:20 -0500 (Wed, 19 Feb 2025) EndedAt: 2025-02-19 15:58:49 -0500 (Wed, 19 Feb 2025) EllapsedTime: 89.0 seconds RetCode: 0 Status: OK PackageFile: CNVRanger_1.23.0.tar.gz PackageFileSize: 2.035 MiB