Package: CNVRanger Version: 1.23.0 Command: rm -rf CNVRanger.buildbin-libdir && mkdir CNVRanger.buildbin-libdir && /Users/biocbuild/BBS/utils/build-universal.sh CNVRanger_1.23.0.tar.gz /Library/Frameworks/R.framework/Resources/bin/R CNVRanger.buildbin-libdir StartedAt: 2025-02-19 22:17:33 -0500 (Wed, 19 Feb 2025) EndedAt: 2025-02-19 22:17:44 -0500 (Wed, 19 Feb 2025) EllapsedTime: 11.2 seconds RetCode: 0 Status: OK PackageFile: CNVRanger_1.23.0.tgz PackageFileSize: 2.065 MiB