Package: CNVPanelizer Version: 1.39.0 Command: chmod a+r CNVPanelizer -R && E:\biocbuild\bbs-3.21-bioc\R\bin\R.exe CMD build --keep-empty-dirs --no-resave-data CNVPanelizer StartedAt: 2025-02-19 17:58:47 -0500 (Wed, 19 Feb 2025) EndedAt: 2025-02-19 18:00:29 -0500 (Wed, 19 Feb 2025) EllapsedTime: 102.2 seconds RetCode: 0 Status: OK PackageFile: CNVPanelizer_1.39.0.tar.gz PackageFileSize: 364.3 KiB