Package: CNVPanelizer Version: 1.39.0 Command: /Library/Frameworks/R.framework/Resources/bin/R CMD build --keep-empty-dirs --no-resave-data CNVPanelizer StartedAt: 2025-02-20 16:16:58 -0500 (Thu, 20 Feb 2025) EndedAt: 2025-02-20 16:18:27 -0500 (Thu, 20 Feb 2025) EllapsedTime: 89.2 seconds RetCode: 0 Status: OK PackageFile: CNVPanelizer_1.39.0.tar.gz PackageFileSize: 363.1 KiB