Package: CNVPanelizer Version: 1.39.0 Command: /home/biocbuild/R/R/bin/R CMD build --keep-empty-dirs --no-resave-data CNVPanelizer StartedAt: 2025-01-28 21:59:52 -0000 (Tue, 28 Jan 2025) EndedAt: 2025-01-28 22:01:52 -0000 (Tue, 28 Jan 2025) EllapsedTime: 120.0 seconds RetCode: 0 Status: OK PackageFile: CNVPanelizer_1.39.0.tar.gz PackageFileSize: 363.2 KiB