Package: CNORode Version: 1.49.0 Command: E:\biocbuild\bbs-3.21-bioc\R\bin\R.exe CMD INSTALL CNORode StartedAt: 2025-02-20 15:44:39 -0500 (Thu, 20 Feb 2025) EndedAt: 2025-02-20 15:45:28 -0500 (Thu, 20 Feb 2025) EllapsedTime: 49.2 seconds RetCode: 0 Status: OK