Package: CNORode Version: 1.49.0 Command: E:\biocbuild\bbs-3.21-bioc\R\bin\R.exe CMD check --no-multiarch --install=check:CNORode.install-out.txt --library=E:\biocbuild\bbs-3.21-bioc\R\library --no-vignettes --timings CNORode_1.49.0.tar.gz StartedAt: 2025-02-20 23:59:04 -0500 (Thu, 20 Feb 2025) EndedAt: 2025-02-21 00:00:35 -0500 (Fri, 21 Feb 2025) EllapsedTime: 91.5 seconds RetCode: 0 Status: WARNINGS CheckDir: CNORode.Rcheck Warnings: 1