Package: CNORode Version: 1.49.0 Command: chmod a+r CNORode -R && E:\biocbuild\bbs-3.21-bioc\R\bin\R.exe CMD build --keep-empty-dirs --no-resave-data CNORode StartedAt: 2025-02-20 18:00:02 -0500 (Thu, 20 Feb 2025) EndedAt: 2025-02-20 18:01:09 -0500 (Thu, 20 Feb 2025) EllapsedTime: 66.7 seconds RetCode: 0 Status: OK PackageFile: CNORode_1.49.0.tar.gz PackageFileSize: 374.8 KiB