Package: CNORode Version: 1.49.0 Command: rm -rf CNORode.buildbin-libdir && mkdir CNORode.buildbin-libdir && E:\biocbuild\bbs-3.21-bioc\R\bin\R.exe CMD INSTALL --build --library=CNORode.buildbin-libdir CNORode_1.49.0.tar.gz StartedAt: 2025-02-21 07:49:43 -0500 (Fri, 21 Feb 2025) EndedAt: 2025-02-21 07:50:27 -0500 (Fri, 21 Feb 2025) EllapsedTime: 43.7 seconds RetCode: 0 Status: OK PackageFile: CNORode_1.49.0.zip PackageFileSize: 303.5 KiB