Package: CNORode Version: 1.49.0 Command: /Library/Frameworks/R.framework/Resources/bin/R CMD check --install=check:CNORode.install-out.txt --library=/Library/Frameworks/R.framework/Resources/library --no-vignettes --timings CNORode_1.49.0.tar.gz StartedAt: 2025-02-19 19:35:50 -0500 (Wed, 19 Feb 2025) EndedAt: 2025-02-19 19:37:08 -0500 (Wed, 19 Feb 2025) EllapsedTime: 77.2 seconds RetCode: 0 Status: WARNINGS CheckDir: CNORode.Rcheck Warnings: 2