Package: CNORode Version: 1.49.0 Command: /Library/Frameworks/R.framework/Resources/bin/R CMD build --keep-empty-dirs --no-resave-data CNORode StartedAt: 2025-02-19 16:16:57 -0500 (Wed, 19 Feb 2025) EndedAt: 2025-02-19 16:17:35 -0500 (Wed, 19 Feb 2025) EllapsedTime: 37.8 seconds RetCode: 0 Status: OK PackageFile: CNORode_1.49.0.tar.gz PackageFileSize: 518.8 KiB