Package: CNORfeeder Version: 1.47.0 Command: E:\biocbuild\bbs-3.21-bioc\R\bin\R.exe CMD check --no-multiarch --install=check:CNORfeeder.install-out.txt --library=E:\biocbuild\bbs-3.21-bioc\R\library --no-vignettes --timings CNORfeeder_1.47.0.tar.gz StartedAt: 2025-02-20 23:58:55 -0500 (Thu, 20 Feb 2025) EndedAt: 2025-02-21 00:00:18 -0500 (Fri, 21 Feb 2025) EllapsedTime: 82.7 seconds RetCode: 1 Status: ERROR CheckDir: CNORfeeder.Rcheck Warnings: NA