Package: CNORfeeder Version: 1.47.0 Command: rm -rf CNORfeeder.buildbin-libdir && mkdir CNORfeeder.buildbin-libdir && E:\biocbuild\bbs-3.21-bioc\R\bin\R.exe CMD INSTALL --build --library=CNORfeeder.buildbin-libdir CNORfeeder_1.47.0.tar.gz StartedAt: 2025-02-21 07:49:40 -0500 (Fri, 21 Feb 2025) EndedAt: 2025-02-21 07:50:11 -0500 (Fri, 21 Feb 2025) EllapsedTime: 30.6 seconds RetCode: 0 Status: OK PackageFile: CNORfeeder_1.47.0.zip PackageFileSize: 1.966 MiB