############################################################################## ############################################################################## ### ### Running command: ### ### /home/biocbuild/bbs-3.21-bioc/R/bin/R CMD INSTALL CNORfeeder ### ############################################################################## ############################################################################## * installing to library ‘/home/biocbuild/bbs-3.21-bioc/R/site-library’ ERROR: dependency ‘CellNOptR’ is not available for package ‘CNORfeeder’ Perhaps try a variation of: install.packages('CellNOptR') * removing ‘/home/biocbuild/bbs-3.21-bioc/R/site-library/CNORfeeder’