############################################################################## ############################################################################## ### ### Running command: ### ### /home/biocbuild/bbs-3.21-bioc/R/bin/R CMD build --keep-empty-dirs --no-resave-data CNORfeeder ### ############################################################################## ############################################################################## * checking for file ‘CNORfeeder/DESCRIPTION’ ... OK * preparing ‘CNORfeeder’: * checking DESCRIPTION meta-information ... OK * installing the package to build vignettes ----------------------------------- ERROR: dependency ‘CellNOptR’ is not available for package ‘CNORfeeder’ Perhaps try a variation of: install.packages('CellNOptR') * removing ‘/tmp/RtmptjuZym/Rinst12f17a1442060c/CNORfeeder’ ----------------------------------- ERROR: package installation failed