Package: CNORfeeder Version: 1.47.0 Command: /Library/Frameworks/R.framework/Resources/bin/R CMD INSTALL CNORfeeder StartedAt: 2025-02-20 15:23:50 -0500 (Thu, 20 Feb 2025) EndedAt: 2025-02-20 15:24:02 -0500 (Thu, 20 Feb 2025) EllapsedTime: 12.5 seconds RetCode: 0 Status: OK