Package: CNORfeeder Version: 1.47.0 Command: /Library/Frameworks/R.framework/Resources/bin/R CMD check --install=check:CNORfeeder.install-out.txt --library=/Library/Frameworks/R.framework/Resources/library --no-vignettes --timings CNORfeeder_1.47.0.tar.gz StartedAt: 2025-02-20 19:35:19 -0500 (Thu, 20 Feb 2025) EndedAt: 2025-02-20 19:36:37 -0500 (Thu, 20 Feb 2025) EllapsedTime: 78.3 seconds RetCode: 1 Status: ERROR CheckDir: CNORfeeder.Rcheck Warnings: NA