Package: CNORfeeder Version: 1.47.0 Command: /Library/Frameworks/R.framework/Resources/bin/R CMD build --keep-empty-dirs --no-resave-data CNORfeeder StartedAt: 2025-02-20 16:16:22 -0500 (Thu, 20 Feb 2025) EndedAt: 2025-02-20 16:16:43 -0500 (Thu, 20 Feb 2025) EllapsedTime: 20.5 seconds RetCode: 0 Status: OK PackageFile: CNORfeeder_1.47.0.tar.gz PackageFileSize: 3.434 MiB